BEGIN:VCALENDAR
VERSION:2.0
PRODID:-//The Hungry Mind - ECPv6.15.20//NONSGML v1.0//EN
CALSCALE:GREGORIAN
METHOD:PUBLISH
X-WR-CALNAME:The Hungry Mind
X-ORIGINAL-URL:https://thehungrymind.nl
X-WR-CALDESC:Events for The Hungry Mind
REFRESH-INTERVAL;VALUE=DURATION:PT1H
X-Robots-Tag:noindex
X-PUBLISHED-TTL:PT1H
BEGIN:VTIMEZONE
TZID:Europe/Amsterdam
BEGIN:DAYLIGHT
TZOFFSETFROM:+0100
TZOFFSETTO:+0200
TZNAME:CEST
DTSTART:20220327T010000
END:DAYLIGHT
BEGIN:STANDARD
TZOFFSETFROM:+0200
TZOFFSETTO:+0100
TZNAME:CET
DTSTART:20221030T010000
END:STANDARD
BEGIN:DAYLIGHT
TZOFFSETFROM:+0100
TZOFFSETTO:+0200
TZNAME:CEST
DTSTART:20230326T010000
END:DAYLIGHT
BEGIN:STANDARD
TZOFFSETFROM:+0200
TZOFFSETTO:+0100
TZNAME:CET
DTSTART:20231029T010000
END:STANDARD
BEGIN:DAYLIGHT
TZOFFSETFROM:+0100
TZOFFSETTO:+0200
TZNAME:CEST
DTSTART:20240331T010000
END:DAYLIGHT
BEGIN:STANDARD
TZOFFSETFROM:+0200
TZOFFSETTO:+0100
TZNAME:CET
DTSTART:20241027T010000
END:STANDARD
BEGIN:DAYLIGHT
TZOFFSETFROM:+0100
TZOFFSETTO:+0200
TZNAME:CEST
DTSTART:20250330T010000
END:DAYLIGHT
BEGIN:STANDARD
TZOFFSETFROM:+0200
TZOFFSETTO:+0100
TZNAME:CET
DTSTART:20251026T010000
END:STANDARD
BEGIN:DAYLIGHT
TZOFFSETFROM:+0100
TZOFFSETTO:+0200
TZNAME:CEST
DTSTART:20260329T010000
END:DAYLIGHT
BEGIN:STANDARD
TZOFFSETFROM:+0200
TZOFFSETTO:+0100
TZNAME:CET
DTSTART:20261025T010000
END:STANDARD
END:VTIMEZONE
BEGIN:VEVENT
DTSTART;TZID=Europe/Amsterdam:20251125T110000
DTEND;TZID=Europe/Amsterdam:20251125T140000
DTSTAMP:20260424T102458
CREATED:20251026T164026Z
LAST-MODIFIED:20251026T203823Z
UID:57951-1764068400-1764079200@thehungrymind.nl
SUMMARY:Holiday Wreathmaking Workshop
DESCRIPTION:[vc_row][vc_column][vc_column_text css=””] \nOur much-loved wreath making workshop is back to help you kick off the festive season with creativity and cheer. \nHosted by the talented Chantana\, this relaxed and hands-on workshop will guide you through the process of making your very own holiday wreath. You will leave with a beautiful\, one-of-a-kind creation to hang on your door\, along with a new set of creative skills. \nChoose your wreath size and price:– 20 cm base: €59\,00– 30 cm base: €69\,00 \nEach base is handmade from willow branches and can be reused year after year\, making it a sustainable choice that keeps on giving. All materials\, festive foliage and tools will be provided. \nNo experience is needed. Whether you are a total beginner or a seasoned crafter\, this workshop is open to all. \nSpaces are limited so sign up below to secure your spot. \n[/vc_column_text][vc_separator border_width=”3″][vc_column_text css=””] \n\n	Notice: JavaScript is required for this content.\n\n\n    \n\n\n        \n        \n         \n[/vc_column_text][/vc_column][/vc_row]
URL:https://thehungrymind.nl/event/wreathmaking2025/
LOCATION:The Hungry Mind
CATEGORIES:Community,Evening Event,Workshops
ATTACH;FMTTYPE=image/png:https://thehungrymind.nl/wp-content/uploads/2025/10/25-11-25wreathmaking.png
END:VEVENT
BEGIN:VEVENT
DTSTART;TZID=Europe/Amsterdam:20251121T190000
DTEND;TZID=Europe/Amsterdam:20251121T190000
DTSTAMP:20260424T102458
CREATED:20251026T202738Z
LAST-MODIFIED:20251026T203123Z
UID:57988-1763751600-1763751600@thehungrymind.nl
SUMMARY:Quiz Night at The Hungry Mind
DESCRIPTION:[vc_row][vc_column][vc_column_text css=””] \nWe’re excited to be hosting our first Quiz Night of the school year at The Hungry Mind! \nJoin us for an evening of trivia\, laughter and friendly competition\, hosted by the one and only quiz master\, Irish Question Mark. Whether you’re in it to win or just in it for the fun\, it’s always a night to remember. \nThe entrance fee is €15\, which includes a delicious homemade dinner to keep your brain sharp and your team energised. If you’re still hungry\, seconds (and even thirds!) will be available for a small fee. Menu details coming soon. \nSpaces are limited\, so gather your team and register below. \n[/vc_column_text][/vc_column][/vc_row][vc_row][vc_column][vc_separator css=””][/vc_column][/vc_row][vc_row][vc_column]\n	Notice: JavaScript is required for this content.\nSorry\, the PubQuiz is now full !  Look out for future events on our webpage and join our newsletter mailing list to get the latest news and events. [/vc_column][/vc_row]
URL:https://thehungrymind.nl/event/quiznight2511/
LOCATION:The Hungry Mind
CATEGORIES:Community,Evening Event,Events,Food
ATTACH;FMTTYPE=image/png:https://thehungrymind.nl/wp-content/uploads/2025/10/25-11-21quiz.png
END:VEVENT
BEGIN:VEVENT
DTSTART;TZID=Europe/Amsterdam:20251118T190000
DTEND;TZID=Europe/Amsterdam:20251118T190000
DTSTAMP:20260424T102458
CREATED:20251026T203528Z
LAST-MODIFIED:20251026T203528Z
UID:57942-1763492400-1763492400@thehungrymind.nl
SUMMARY:Book Launch: Below The Surface by Andrea Beck
DESCRIPTION:[vc_row][vc_column][vc_column_text css=””] \nBook Launch: Below the Surface by Andrea Beck\nTuesday 18 November\, 19:00 at The Hungry Mind \nJoin us for an evening with Andrea Beck\, a member of our own community\, as she introduces her debut young adult novel\, Below the Surface. Inspired by a real event\, this gripping story explores friendship\, jealousy\, and the dark undercurrents of a small town where appearances can be deceiving. \nAndrea will share insights into her writing process\, read a short passage from the book\, and answer questions from the audience. Copies of the book will be available for purchase\, and Andrea will be signing books after the reading. \nAbout the authorAndrea Beck is a writer and high school English teacher from Vancouver\, Canada. Her flexible career has taken her across North America and Europe\, where she also worked as a school counsellor. Now based in the Netherlands\, she has completed her first young adult novel\, Below the Surface\, and is currently working on a women’s novel and a memoir exploring the rediscovery of courage. \n[/vc_column_text][/vc_column][/vc_row]
URL:https://thehungrymind.nl/event/booklaunch/
LOCATION:The Hungry Mind
CATEGORIES:Community,Evening Event,Events
ATTACH;FMTTYPE=image/png:https://thehungrymind.nl/wp-content/uploads/2025/10/booklaunchAndreaBeck-e1760961058436.png
END:VEVENT
BEGIN:VEVENT
DTSTART;TZID=Europe/Amsterdam:20251104T170000
DTEND;TZID=Europe/Amsterdam:20251104T190000
DTSTAMP:20260424T102458
CREATED:20251026T200440Z
LAST-MODIFIED:20251026T203749Z
UID:57981-1762275600-1762282800@thehungrymind.nl
SUMMARY:Family Movie Night
DESCRIPTION:[vc_row][vc_column][vc_column_text css=””] \nJoin us for a cosy Family Movie Night\, open to children of all ages. \nThis time\, we’re embracing the autumn season with a heartwarming\, animated adventure that’s full of fun\, friendship and feel-good moments. It’s the perfect way to unwind after school and enjoy a relaxed evening. \nThere will be popcorn and snacks available for sale\, so bring your friends\, get comfy and settle in for a lovely evening at The Hungry Mind. \nWe look forward to seeing you there! \nSpaces are limited\, so be sure to sign up below. \n[/vc_column_text][vc_separator css=””][vc_column_text css=””] \n\n	Notice: JavaScript is required for this content.\n\n\n    \n\n\n        \n        \n         \n[/vc_column_text][/vc_column][/vc_row][vc_row][vc_column][/vc_column][/vc_row]
URL:https://thehungrymind.nl/event/movienight2511/
LOCATION:The Hungry Mind
CATEGORIES:Evening Event,Kids Fun,Movie Night
ATTACH;FMTTYPE=image/png:https://thehungrymind.nl/wp-content/uploads/2025/10/25-11-04movie.png
END:VEVENT
BEGIN:VEVENT
DTSTART;TZID=Europe/Amsterdam:20250513T170000
DTEND;TZID=Europe/Amsterdam:20250513T190000
DTSTAMP:20260424T102458
CREATED:20250503T100551Z
LAST-MODIFIED:20251026T200247Z
UID:57657-1747155600-1747162800@thehungrymind.nl
SUMMARY:Movie Night
DESCRIPTION:[vc_row][vc_column][vc_column_text css=””] \nFamily Movie Night at The Hungry Mind! \nGet ready for a cozy evening of fun at our next Movie Night\, open to children of all ages! \nJoin us on Tuesday\, 13 May from 17:00–19:00 for a fantastic\, family-friendly film that’s perfect for a relaxed after-school treat. There’ll be plenty of popcorn and snacks available for sale\, so bring your friends\, get comfy\, and enjoy a fun evening together at The Hungry Mind. We can’t wait to see you there! \nSpaces are limited\, so be sure to sign up below! \n[/vc_column_text][vc_separator css=””][vc_column_text css=””] \nThis event has passed – sign ups are no longer possible. \n[/vc_column_text][/vc_column][vc_column][/vc_column][/vc_row]
URL:https://thehungrymind.nl/event/movienight202505-2/
LOCATION:The Hungry Mind
CATEGORIES:Evening Event,Kids Fun,Movie Night
ATTACH;FMTTYPE=image/png:https://thehungrymind.nl/wp-content/uploads/2025/05/Movie-Night-WEBSITE.png
END:VEVENT
BEGIN:VEVENT
DTSTART;TZID=Europe/Amsterdam:20250328T190000
DTEND;TZID=Europe/Amsterdam:20250328T190000
DTSTAMP:20260424T102458
CREATED:20250212T215227Z
LAST-MODIFIED:20251026T203249Z
UID:57461-1743188400-1743188400@thehungrymind.nl
SUMMARY:Pub Quiz at The Hungry Mind
DESCRIPTION:[vc_row][vc_column][vc_column_text css=””]We’re excited to be hosting our first Pub Quiz of 2025 at The Hungry Mind! Hosted by the one and only quiz master Irish Question Mark\, this promises to be a fun-filled evening of trivia\, laughter\, and friendly competition. \nThe entrance fee is €15\, which includes a delicious plate of food\, lovingly prepared by our amazing Clubhouse Coordinator\, and in-house master chef\, Geeta. If you’re still hungry\, seconds (and even thirds!) will be available for a small fee of €6. \nSpaces are limited\, so make sure to register your team below![/vc_column_text][vc_separator css=””][vc_column_text css=””]This event has passed – sign ups are no longer possible.[/vc_column_text][/vc_column][/vc_row][vc_row][vc_column][/vc_column][/vc_row]
URL:https://thehungrymind.nl/event/pubquiz2503/
LOCATION:The Hungry Mind
CATEGORIES:Community,Evening Event,Events,Food
ATTACH;FMTTYPE=image/png:https://thehungrymind.nl/wp-content/uploads/2025/02/QuizMarch25-e1739397020392.png
END:VEVENT
BEGIN:VEVENT
DTSTART;TZID=Europe/Amsterdam:20241203T170000
DTEND;TZID=Europe/Amsterdam:20241203T190000
DTSTAMP:20260424T102458
CREATED:20241128T095021Z
LAST-MODIFIED:20251026T184946Z
UID:57279-1733245200-1733252400@thehungrymind.nl
SUMMARY:Christmas Movie Night
DESCRIPTION:[vc_row][vc_column][vc_column_text css=””]Magical Christmas Movie Night! \nGet ready for a cozy evening filled with holiday cheer at our Christmas Movie Night for children of all ages! \nJoin us on Tuesday\, 3rd December from 17:00-19:00 for a heartwarming\, family-friendly movie that’s perfect for the festive season. There’ll be plenty of popcorn and delicious Christmas treats to enjoy as we celebrate the most wonderful time of the year together. We can’t wait to see you there for an evening of Christmas fun and movie magic! \n  \nSpaces are limited\, so be sure to sign up below![/vc_column_text][vc_separator css=””][vc_column_text css=””]This event has passed – sign ups are no longer possible.[/vc_column_text][/vc_column][/vc_row][vc_row][vc_column][/vc_column][/vc_row]
URL:https://thehungrymind.nl/event/xmasmovie2/
LOCATION:The Hungry Mind
CATEGORIES:Evening Event,Kids Fun,Movie Night
ATTACH;FMTTYPE=image/png:https://thehungrymind.nl/wp-content/uploads/2024/11/Christmas-Movie-Night-poster-Instagram-Post-1-e1732787481815.png
END:VEVENT
BEGIN:VEVENT
DTSTART;TZID=Europe/Amsterdam:20241129T190000
DTEND;TZID=Europe/Amsterdam:20241129T233000
DTSTAMP:20260424T102458
CREATED:20241011T203042Z
LAST-MODIFIED:20251026T203324Z
UID:57118-1732906800-1732923000@thehungrymind.nl
SUMMARY:Pub Quiz at The Hungry Mind
DESCRIPTION:[vc_row][vc_column][vc_column_text css=””]We’re thrilled to be hosting another Pub Quiz at The Hungry Mind! Hosted by the one and only quiz master Irish Question Mark\, this promises to be a fun-filled evening of trivia\, laughter\, and friendly competition. \nThe entrance fee is €15\, which includes a delicious plate of food\, lovingly prepared by our amazing Clubhouse Coordinator\, and in-house master chef\, Geeta. If you’re still hungry\, seconds (and even thirds!) will be available for a small fee of €6. \nSpaces are limited\, so make sure to register your team below![/vc_column_text][vc_separator css=””][vc_column_text css=””]This event has passed – sign ups are no longer possible.[/vc_column_text][/vc_column][/vc_row][vc_row][vc_column][/vc_column][/vc_row]
URL:https://thehungrymind.nl/event/pubquiz2024-2/
LOCATION:The Hungry Mind
CATEGORIES:Evening Event,Food
ATTACH;FMTTYPE=image/png:https://thehungrymind.nl/wp-content/uploads/2024/10/PubQuiz29nov-e1728678600722.png
END:VEVENT
BEGIN:VEVENT
DTSTART;TZID=Europe/Amsterdam:20241017T170000
DTEND;TZID=Europe/Amsterdam:20241017T190000
DTSTAMP:20260424T102458
CREATED:20240930T070123Z
LAST-MODIFIED:20251026T184905Z
UID:57042-1729184400-1729191600@thehungrymind.nl
SUMMARY:Halloween Movie Night
DESCRIPTION:[vc_row][vc_column][vc_column_text css=””]Spooky Halloween Movie Night!  \nGet ready for a night of thrills and chills at our Halloween Movie Night for children of all ages! Join us on Tuesday\, 17th October\, from 17:00-19:00\, for a a kid-friendly movie with just the right amount of spookiness\, along with plenty of popcorn and Halloween treats to enjoy. \nCostumes are totally encouraged (but keep them not-too-scary!)\, so show up as your favourite character and enjoy a creepy\, fun-filled evening with your friends. \nWe can’t wait to see you there for a night of spooky fun—no jump scares\, we promise! \n  \nSpaces are limited\, so make sure to sign up below![/vc_column_text][vc_separator css=””][vc_column_text css=””]This event has passed – sign ups are no longer possible.[/vc_column_text][/vc_column][/vc_row]
URL:https://thehungrymind.nl/event/halloweenmovie2/
LOCATION:The Hungry Mind
CATEGORIES:Evening Event,Kids Fun,Movie Night
ATTACH;FMTTYPE=image/png:https://thehungrymind.nl/wp-content/uploads/2024/09/HalloweenMovie.png
END:VEVENT
BEGIN:VEVENT
DTSTART;TZID=Europe/Amsterdam:20240322T190000
DTEND;TZID=Europe/Amsterdam:20240322T190000
DTSTAMP:20260424T102458
CREATED:20240303T223130Z
LAST-MODIFIED:20251026T203352Z
UID:56414-1711134000-1711134000@thehungrymind.nl
SUMMARY:Pub Quiz - Round 2
DESCRIPTION:[vc_row][vc_column][vc_column_text css=””]Back by popular demand ! \nWe are excited to be hosting our second Pub Quiz at The Hungry Mind! Hosted by quiz master Irish Question Mark\, this is sure to be an amazing event filled with lots of fun and laughter. \nSpaces are limited so please register your team below ! \n[/vc_column_text][vc_separator css=””][vc_column_text css=””]This event has passed – sign ups are no longer possible.[/vc_column_text][/vc_column][/vc_row]
URL:https://thehungrymind.nl/event/pub-quiz-round-2/
CATEGORIES:Evening Event
ATTACH;FMTTYPE=image/png:https://thehungrymind.nl/wp-content/uploads/2024/03/Quiz-Night-Instagram-Postfinal-e1709503856482.png
END:VEVENT
BEGIN:VEVENT
DTSTART;TZID=Europe/Amsterdam:20231212T170000
DTEND;TZID=Europe/Amsterdam:20231212T190000
DTSTAMP:20260424T102458
CREATED:20231130T225850Z
LAST-MODIFIED:20251026T185035Z
UID:56146-1702400400-1702407600@thehungrymind.nl
SUMMARY:Christmas Movie Night
DESCRIPTION:[vc_row][vc_column][vc_column_text]T’s the most wonderful time of the year – to watch a holiday movie !! \n  \nThe Hungry Mind team is looking forward to welcoming you and your family to our second Movie night \nWe will be showing a child friendly movie and serving up some seasonal treats that will be sure to get everyone in the holiday spirit. \nCome and join us for some hot cocoa and a movie which is sure to get into the holiday spirit! \n  \nMovie Menu : \nWe will be serving our usual Tostis\, Bagels & Hot Dogs as well as \nVegetarian or Non-vegetarian Chili – € 5\,50 \nMovie Box (popcorn\, juice box and a bag of treats) – € 5 \nHot Chocolate – € 2\,50 \n  \nSpaces are limited so make sure to secure your spot by registering below. [/vc_column_text][vc_separator color=”chino” border_width=”2″][vc_column_text css=””]This event has passed – sign ups are no longer possible.[/vc_column_text][/vc_column][/vc_row]
URL:https://thehungrymind.nl/event/christmas-movie-night-3/
CATEGORIES:Evening Event,Kids Fun,Movie Night
ATTACH;FMTTYPE=image/jpeg:https://thehungrymind.nl/wp-content/uploads/2023/11/Christmas-Movie.jpeg
END:VEVENT
BEGIN:VEVENT
DTSTART;TZID=Europe/Amsterdam:20231110T190000
DTEND;TZID=Europe/Amsterdam:20231110T230000
DTSTAMP:20260424T102458
CREATED:20231026T084841Z
LAST-MODIFIED:20251026T203438Z
UID:56134-1699642800-1699657200@thehungrymind.nl
SUMMARY:Pub Quiz at The Hungry Mind - Sign up HERE !
DESCRIPTION:[vc_row][vc_column][vc_column_text css=””]We are excited to be hosting our first Pub Quiz at The Hungry Mind! \nHosted by quiz master Irish Question Mark and served with delicious Curries made by our very own volunteer\, Geeta. \nTickets will be 10€ per person\, including entry and a bowl of curry – drinks will be available to buy at the bar. \nAny questions or if you want to be pre-sign up your team please email events@thehungrymind.nl \nPlease register your team below ! \n[/vc_column_text][vc_separator css=””][vc_column_text css=””]This event has passed – sign ups are no longer possible.[/vc_column_text][/vc_column][/vc_row]
URL:https://thehungrymind.nl/event/pub-quiz-at-the-hungry-mind-4/
CATEGORIES:Evening Event
ATTACH;FMTTYPE=image/jpeg:https://thehungrymind.nl/wp-content/uploads/2023/10/PHOTO-2023-10-25-22-24-59-e1698317303784.jpg
END:VEVENT
BEGIN:VEVENT
DTSTART;TZID=Europe/Amsterdam:20231026T170000
DTEND;TZID=Europe/Amsterdam:20231026T200000
DTSTAMP:20260424T102458
CREATED:20231024T121907Z
LAST-MODIFIED:20231024T121907Z
UID:56392-1698339600-1698350400@thehungrymind.nl
SUMMARY:Halloween Movie Night
DESCRIPTION:Download or view  the Event flyer \nSign up link: https://docs.google.com/forms/d/e/1FAIpQLScIoq1uBQ-0RdPlmOGYtIVPoOxVarWToGMMmJHyLZxXhvbUNg/viewform \nQuestions? Please contact Rakel for more information about the Event.\nevents@thehungrymind.nl
URL:https://thehungrymind.nl/event/halloween-movie-night/
CATEGORIES:Evening Event,Kids Fun,Movie Night
ATTACH;FMTTYPE=image/jpeg:https://thehungrymind.nl/wp-content/uploads/2023/10/Halloween-Movie-Night-Flyer.jpg
END:VEVENT
END:VCALENDAR