BEGIN:VCALENDAR
VERSION:2.0
PRODID:-//The Hungry Mind - ECPv6.15.20//NONSGML v1.0//EN
CALSCALE:GREGORIAN
METHOD:PUBLISH
X-WR-CALNAME:The Hungry Mind
X-ORIGINAL-URL:https://thehungrymind.nl
X-WR-CALDESC:Events for The Hungry Mind
REFRESH-INTERVAL;VALUE=DURATION:PT1H
X-Robots-Tag:noindex
X-PUBLISHED-TTL:PT1H
BEGIN:VTIMEZONE
TZID:Europe/Amsterdam
BEGIN:DAYLIGHT
TZOFFSETFROM:+0100
TZOFFSETTO:+0200
TZNAME:CEST
DTSTART:20240331T010000
END:DAYLIGHT
BEGIN:STANDARD
TZOFFSETFROM:+0200
TZOFFSETTO:+0100
TZNAME:CET
DTSTART:20241027T010000
END:STANDARD
BEGIN:DAYLIGHT
TZOFFSETFROM:+0100
TZOFFSETTO:+0200
TZNAME:CEST
DTSTART:20250330T010000
END:DAYLIGHT
BEGIN:STANDARD
TZOFFSETFROM:+0200
TZOFFSETTO:+0100
TZNAME:CET
DTSTART:20251026T010000
END:STANDARD
BEGIN:DAYLIGHT
TZOFFSETFROM:+0100
TZOFFSETTO:+0200
TZNAME:CEST
DTSTART:20260329T010000
END:DAYLIGHT
BEGIN:STANDARD
TZOFFSETFROM:+0200
TZOFFSETTO:+0100
TZNAME:CET
DTSTART:20261025T010000
END:STANDARD
END:VTIMEZONE
BEGIN:VEVENT
DTSTART;TZID=Europe/Amsterdam:20251125T110000
DTEND;TZID=Europe/Amsterdam:20251125T140000
DTSTAMP:20260422T210712
CREATED:20251026T164026Z
LAST-MODIFIED:20251026T203823Z
UID:57951-1764068400-1764079200@thehungrymind.nl
SUMMARY:Holiday Wreathmaking Workshop
DESCRIPTION:[vc_row][vc_column][vc_column_text css=””] \nOur much-loved wreath making workshop is back to help you kick off the festive season with creativity and cheer. \nHosted by the talented Chantana\, this relaxed and hands-on workshop will guide you through the process of making your very own holiday wreath. You will leave with a beautiful\, one-of-a-kind creation to hang on your door\, along with a new set of creative skills. \nChoose your wreath size and price:– 20 cm base: €59\,00– 30 cm base: €69\,00 \nEach base is handmade from willow branches and can be reused year after year\, making it a sustainable choice that keeps on giving. All materials\, festive foliage and tools will be provided. \nNo experience is needed. Whether you are a total beginner or a seasoned crafter\, this workshop is open to all. \nSpaces are limited so sign up below to secure your spot. \n[/vc_column_text][vc_separator border_width=”3″][vc_column_text css=””] \n\n	Notice: JavaScript is required for this content.\n\n\n    \n\n\n        \n        \n         \n[/vc_column_text][/vc_column][/vc_row]
URL:https://thehungrymind.nl/event/wreathmaking2025/
LOCATION:The Hungry Mind
CATEGORIES:Community,Evening Event,Workshops
ATTACH;FMTTYPE=image/png:https://thehungrymind.nl/wp-content/uploads/2025/10/25-11-25wreathmaking.png
END:VEVENT
END:VCALENDAR