BEGIN:VCALENDAR
VERSION:2.0
PRODID:-//The Hungry Mind - ECPv6.15.20//NONSGML v1.0//EN
CALSCALE:GREGORIAN
METHOD:PUBLISH
X-WR-CALNAME:The Hungry Mind
X-ORIGINAL-URL:https://thehungrymind.nl
X-WR-CALDESC:Events for The Hungry Mind
REFRESH-INTERVAL;VALUE=DURATION:PT1H
X-Robots-Tag:noindex
X-PUBLISHED-TTL:PT1H
BEGIN:VTIMEZONE
TZID:Europe/Amsterdam
BEGIN:DAYLIGHT
TZOFFSETFROM:+0100
TZOFFSETTO:+0200
TZNAME:CEST
DTSTART:20240331T010000
END:DAYLIGHT
BEGIN:STANDARD
TZOFFSETFROM:+0200
TZOFFSETTO:+0100
TZNAME:CET
DTSTART:20241027T010000
END:STANDARD
BEGIN:DAYLIGHT
TZOFFSETFROM:+0100
TZOFFSETTO:+0200
TZNAME:CEST
DTSTART:20250330T010000
END:DAYLIGHT
BEGIN:STANDARD
TZOFFSETFROM:+0200
TZOFFSETTO:+0100
TZNAME:CET
DTSTART:20251026T010000
END:STANDARD
BEGIN:DAYLIGHT
TZOFFSETFROM:+0100
TZOFFSETTO:+0200
TZNAME:CEST
DTSTART:20260329T010000
END:DAYLIGHT
BEGIN:STANDARD
TZOFFSETFROM:+0200
TZOFFSETTO:+0100
TZNAME:CET
DTSTART:20261025T010000
END:STANDARD
END:VTIMEZONE
BEGIN:VEVENT
DTSTART;TZID=Europe/Amsterdam:20251121T190000
DTEND;TZID=Europe/Amsterdam:20251121T190000
DTSTAMP:20260422T210111
CREATED:20251026T202738Z
LAST-MODIFIED:20251026T203123Z
UID:57988-1763751600-1763751600@thehungrymind.nl
SUMMARY:Quiz Night at The Hungry Mind
DESCRIPTION:[vc_row][vc_column][vc_column_text css=””] \nWe’re excited to be hosting our first Quiz Night of the school year at The Hungry Mind! \nJoin us for an evening of trivia\, laughter and friendly competition\, hosted by the one and only quiz master\, Irish Question Mark. Whether you’re in it to win or just in it for the fun\, it’s always a night to remember. \nThe entrance fee is €15\, which includes a delicious homemade dinner to keep your brain sharp and your team energised. If you’re still hungry\, seconds (and even thirds!) will be available for a small fee. Menu details coming soon. \nSpaces are limited\, so gather your team and register below. \n[/vc_column_text][/vc_column][/vc_row][vc_row][vc_column][vc_separator css=””][/vc_column][/vc_row][vc_row][vc_column]\n	Notice: JavaScript is required for this content.\nSorry\, the PubQuiz is now full !  Look out for future events on our webpage and join our newsletter mailing list to get the latest news and events. [/vc_column][/vc_row]
URL:https://thehungrymind.nl/event/quiznight2511/
LOCATION:The Hungry Mind
CATEGORIES:Community,Evening Event,Events,Food
ATTACH;FMTTYPE=image/png:https://thehungrymind.nl/wp-content/uploads/2025/10/25-11-21quiz.png
END:VEVENT
END:VCALENDAR