BEGIN:VCALENDAR
VERSION:2.0
PRODID:-//The Hungry Mind - ECPv6.15.20//NONSGML v1.0//EN
CALSCALE:GREGORIAN
METHOD:PUBLISH
X-ORIGINAL-URL:https://thehungrymind.nl
X-WR-CALDESC:Events for The Hungry Mind
REFRESH-INTERVAL;VALUE=DURATION:PT1H
X-Robots-Tag:noindex
X-PUBLISHED-TTL:PT1H
BEGIN:VTIMEZONE
TZID:Europe/Amsterdam
BEGIN:DAYLIGHT
TZOFFSETFROM:+0100
TZOFFSETTO:+0200
TZNAME:CEST
DTSTART:20240331T010000
END:DAYLIGHT
BEGIN:STANDARD
TZOFFSETFROM:+0200
TZOFFSETTO:+0100
TZNAME:CET
DTSTART:20241027T010000
END:STANDARD
BEGIN:DAYLIGHT
TZOFFSETFROM:+0100
TZOFFSETTO:+0200
TZNAME:CEST
DTSTART:20250330T010000
END:DAYLIGHT
BEGIN:STANDARD
TZOFFSETFROM:+0200
TZOFFSETTO:+0100
TZNAME:CET
DTSTART:20251026T010000
END:STANDARD
BEGIN:DAYLIGHT
TZOFFSETFROM:+0100
TZOFFSETTO:+0200
TZNAME:CEST
DTSTART:20260329T010000
END:DAYLIGHT
BEGIN:STANDARD
TZOFFSETFROM:+0200
TZOFFSETTO:+0100
TZNAME:CET
DTSTART:20261025T010000
END:STANDARD
END:VTIMEZONE
BEGIN:VEVENT
DTSTART;TZID=Europe/Amsterdam:20251118T190000
DTEND;TZID=Europe/Amsterdam:20251118T190000
DTSTAMP:20260422T210131
CREATED:20251026T203528Z
LAST-MODIFIED:20251026T203528Z
UID:57942-1763492400-1763492400@thehungrymind.nl
SUMMARY:Book Launch: Below The Surface by Andrea Beck
DESCRIPTION:[vc_row][vc_column][vc_column_text css=””] \nBook Launch: Below the Surface by Andrea Beck\nTuesday 18 November\, 19:00 at The Hungry Mind \nJoin us for an evening with Andrea Beck\, a member of our own community\, as she introduces her debut young adult novel\, Below the Surface. Inspired by a real event\, this gripping story explores friendship\, jealousy\, and the dark undercurrents of a small town where appearances can be deceiving. \nAndrea will share insights into her writing process\, read a short passage from the book\, and answer questions from the audience. Copies of the book will be available for purchase\, and Andrea will be signing books after the reading. \nAbout the authorAndrea Beck is a writer and high school English teacher from Vancouver\, Canada. Her flexible career has taken her across North America and Europe\, where she also worked as a school counsellor. Now based in the Netherlands\, she has completed her first young adult novel\, Below the Surface\, and is currently working on a women’s novel and a memoir exploring the rediscovery of courage. \n[/vc_column_text][/vc_column][/vc_row]
URL:https://thehungrymind.nl/event/booklaunch/
LOCATION:The Hungry Mind
CATEGORIES:Community,Evening Event,Events
ATTACH;FMTTYPE=image/png:https://thehungrymind.nl/wp-content/uploads/2025/10/booklaunchAndreaBeck-e1760961058436.png
END:VEVENT
END:VCALENDAR