BEGIN:VCALENDAR
VERSION:2.0
PRODID:-//The Hungry Mind - ECPv6.15.20//NONSGML v1.0//EN
CALSCALE:GREGORIAN
METHOD:PUBLISH
X-WR-CALNAME:The Hungry Mind
X-ORIGINAL-URL:https://thehungrymind.nl
X-WR-CALDESC:Events for The Hungry Mind
REFRESH-INTERVAL;VALUE=DURATION:PT1H
X-Robots-Tag:noindex
X-PUBLISHED-TTL:PT1H
BEGIN:VTIMEZONE
TZID:Europe/Amsterdam
BEGIN:DAYLIGHT
TZOFFSETFROM:+0100
TZOFFSETTO:+0200
TZNAME:CEST
DTSTART:20240331T010000
END:DAYLIGHT
BEGIN:STANDARD
TZOFFSETFROM:+0200
TZOFFSETTO:+0100
TZNAME:CET
DTSTART:20241027T010000
END:STANDARD
BEGIN:DAYLIGHT
TZOFFSETFROM:+0100
TZOFFSETTO:+0200
TZNAME:CEST
DTSTART:20250330T010000
END:DAYLIGHT
BEGIN:STANDARD
TZOFFSETFROM:+0200
TZOFFSETTO:+0100
TZNAME:CET
DTSTART:20251026T010000
END:STANDARD
BEGIN:DAYLIGHT
TZOFFSETFROM:+0100
TZOFFSETTO:+0200
TZNAME:CEST
DTSTART:20260329T010000
END:DAYLIGHT
BEGIN:STANDARD
TZOFFSETFROM:+0200
TZOFFSETTO:+0100
TZNAME:CET
DTSTART:20261025T010000
END:STANDARD
END:VTIMEZONE
BEGIN:VEVENT
DTSTART;TZID=Europe/Amsterdam:20250513T170000
DTEND;TZID=Europe/Amsterdam:20250513T190000
DTSTAMP:20260423T044716
CREATED:20250503T100551Z
LAST-MODIFIED:20251026T200247Z
UID:57657-1747155600-1747162800@thehungrymind.nl
SUMMARY:Movie Night
DESCRIPTION:[vc_row][vc_column][vc_column_text css=””] \nFamily Movie Night at The Hungry Mind! \nGet ready for a cozy evening of fun at our next Movie Night\, open to children of all ages! \nJoin us on Tuesday\, 13 May from 17:00–19:00 for a fantastic\, family-friendly film that’s perfect for a relaxed after-school treat. There’ll be plenty of popcorn and snacks available for sale\, so bring your friends\, get comfy\, and enjoy a fun evening together at The Hungry Mind. We can’t wait to see you there! \nSpaces are limited\, so be sure to sign up below! \n[/vc_column_text][vc_separator css=””][vc_column_text css=””] \nThis event has passed – sign ups are no longer possible. \n[/vc_column_text][/vc_column][vc_column][/vc_column][/vc_row]
URL:https://thehungrymind.nl/event/movienight202505-2/
LOCATION:The Hungry Mind
CATEGORIES:Evening Event,Kids Fun,Movie Night
ATTACH;FMTTYPE=image/png:https://thehungrymind.nl/wp-content/uploads/2025/05/Movie-Night-WEBSITE.png
END:VEVENT
END:VCALENDAR